Package: mogsa Version: 1.41.0 Command: /Library/Frameworks/R.framework/Resources/bin/R CMD build --keep-empty-dirs --no-resave-data mogsa StartedAt: 2025-02-03 17:35:51 -0500 (Mon, 03 Feb 2025) EndedAt: 2025-02-03 17:36:44 -0500 (Mon, 03 Feb 2025) EllapsedTime: 53.6 seconds RetCode: 0 Status: OK PackageFile: mogsa_1.41.0.tar.gz PackageFileSize: 775.3 KiB