Package: mobileRNA Version: 1.3.0 Command: /Library/Frameworks/R.framework/Resources/bin/R CMD check --install=check:mobileRNA.install-out.txt --library=/Library/Frameworks/R.framework/Resources/library --no-vignettes --timings mobileRNA_1.3.0.tar.gz StartedAt: 2025-01-10 20:17:54 -0500 (Fri, 10 Jan 2025) EndedAt: 2025-01-10 20:19:43 -0500 (Fri, 10 Jan 2025) EllapsedTime: 109.4 seconds RetCode: 0 Status: OK CheckDir: mobileRNA.Rcheck Warnings: 0