Package: moanin Version: 1.15.0 Command: chmod a+r moanin -R && E:\biocbuild\bbs-3.21-bioc\R\bin\R.exe CMD build --keep-empty-dirs --no-resave-data moanin StartedAt: 2025-02-16 19:53:37 -0500 (Sun, 16 Feb 2025) EndedAt: 2025-02-16 19:55:25 -0500 (Sun, 16 Feb 2025) EllapsedTime: 107.9 seconds RetCode: 0 Status: OK PackageFile: moanin_1.15.0.tar.gz PackageFileSize: 477.5 KiB