Package: moanin Version: 1.17.0 Command: /home/biocbuild/bbs-3.22-bioc/R/bin/R CMD INSTALL moanin StartedAt: 2025-10-15 15:40:14 -0400 (Wed, 15 Oct 2025) EndedAt: 2025-10-15 15:40:51 -0400 (Wed, 15 Oct 2025) EllapsedTime: 36.7 seconds RetCode: 0 Status: OK