Package: moanin Version: 1.17.0 Command: /home/biocbuild/bbs-3.22-bioc/R/bin/R CMD build --keep-empty-dirs --no-resave-data --md5 moanin StartedAt: 2025-10-15 18:53:06 -0400 (Wed, 15 Oct 2025) EndedAt: 2025-10-15 18:54:05 -0400 (Wed, 15 Oct 2025) EllapsedTime: 59.1 seconds RetCode: 0 Status: OK PackageFile: moanin_1.17.0.tar.gz PackageFileSize: 525.1 KiB