Package: moanin Version: 1.15.0 Command: /home/biocbuild/bbs-3.21-bioc/R/bin/R CMD build --keep-empty-dirs --no-resave-data moanin StartedAt: 2025-02-16 18:07:09 -0500 (Sun, 16 Feb 2025) EndedAt: 2025-02-16 18:08:11 -0500 (Sun, 16 Feb 2025) EllapsedTime: 62.0 seconds RetCode: 0 Status: OK PackageFile: moanin_1.15.0.tar.gz PackageFileSize: 521.9 KiB