Package: moanin Version: 1.15.0 Command: /Library/Frameworks/R.framework/Resources/bin/R CMD INSTALL moanin StartedAt: 2025-02-16 15:17:02 -0500 (Sun, 16 Feb 2025) EndedAt: 2025-02-16 15:17:47 -0500 (Sun, 16 Feb 2025) EllapsedTime: 44.9 seconds RetCode: 0 Status: OK