Package: moanin Version: 1.15.0 Command: rm -rf moanin.buildbin-libdir && mkdir moanin.buildbin-libdir && /Users/biocbuild/BBS/utils/build-universal.sh moanin_1.15.0.tar.gz /Library/Frameworks/R.framework/Resources/bin/R moanin.buildbin-libdir StartedAt: 2025-02-17 00:30:48 -0500 (Mon, 17 Feb 2025) EndedAt: 2025-02-17 00:31:37 -0500 (Mon, 17 Feb 2025) EllapsedTime: 48.5 seconds RetCode: 0 Status: OK PackageFile: moanin_1.15.0.tgz PackageFileSize: 1003 KiB