Package: moanin Version: 1.15.0 Command: /Library/Frameworks/R.framework/Resources/bin/R CMD build --keep-empty-dirs --no-resave-data moanin StartedAt: 2025-01-31 17:00:22 -0500 (Fri, 31 Jan 2025) EndedAt: 2025-01-31 17:00:51 -0500 (Fri, 31 Jan 2025) EllapsedTime: 29.3 seconds RetCode: 0 Status: OK PackageFile: moanin_1.15.0.tar.gz PackageFileSize: 555.6 KiB