Package: moanin Version: 1.15.0 Command: rm -rf moanin.buildbin-libdir && mkdir moanin.buildbin-libdir && /Users/biocbuild/BBS/utils/build-universal.sh moanin_1.15.0.tar.gz /Library/Frameworks/R.framework/Resources/bin/R moanin.buildbin-libdir StartedAt: 2025-01-31 22:23:30 -0500 (Fri, 31 Jan 2025) EndedAt: 2025-01-31 22:23:45 -0500 (Fri, 31 Jan 2025) EllapsedTime: 15.4 seconds RetCode: 0 Status: OK PackageFile: moanin_1.15.0.tgz PackageFileSize: 1005 KiB