Package: mixOmics Version: 6.33.0 Command: /home/biocbuild/bbs-3.22-bioc/R/bin/R CMD INSTALL mixOmics StartedAt: 2025-10-03 15:08:09 -0400 (Fri, 03 Oct 2025) EndedAt: 2025-10-03 15:08:53 -0400 (Fri, 03 Oct 2025) EllapsedTime: 44.4 seconds RetCode: 0 Status: OK