Package: mixOmics Version: 6.33.0 Command: /home/biocbuild/bbs-3.22-bioc/R/bin/R CMD build --keep-empty-dirs --no-resave-data --md5 mixOmics StartedAt: 2025-10-03 18:42:00 -0400 (Fri, 03 Oct 2025) EndedAt: 2025-10-03 18:53:10 -0400 (Fri, 03 Oct 2025) EllapsedTime: 670.6 seconds RetCode: 0 Status: OK PackageFile: mixOmics_6.33.0.tar.gz PackageFileSize: 19.19 MiB