Package: mixOmics Version: 6.31.4 Command: /Library/Frameworks/R.framework/Resources/bin/R CMD build --keep-empty-dirs --no-resave-data mixOmics StartedAt: 2025-02-03 17:34:27 -0500 (Mon, 03 Feb 2025) EndedAt: 2025-02-03 17:38:08 -0500 (Mon, 03 Feb 2025) EllapsedTime: 221.4 seconds RetCode: 0 Status: OK PackageFile: mixOmics_6.31.4.tar.gz PackageFileSize: 18.43 MiB