Package: mitology Version: 1.1.0 Command: /home/biocbuild/bbs-3.22-bioc/R/bin/R CMD INSTALL mitology StartedAt: 2025-10-10 15:48:19 -0400 (Fri, 10 Oct 2025) EndedAt: 2025-10-10 15:48:36 -0400 (Fri, 10 Oct 2025) EllapsedTime: 16.6 seconds RetCode: 0 Status: OK