Package: mitology Version: 1.1.0 Command: /home/biocbuild/bbs-3.22-bioc/R/bin/R CMD build --keep-empty-dirs --no-resave-data --md5 mitology StartedAt: 2025-10-10 18:54:14 -0400 (Fri, 10 Oct 2025) EndedAt: 2025-10-10 18:54:50 -0400 (Fri, 10 Oct 2025) EllapsedTime: 36.0 seconds RetCode: 1 Status: ERROR PackageFile: None PackageFileSize: NA