Package: mitology Version: 1.3.0 Command: /Library/Frameworks/R.framework/Resources/bin/R CMD INSTALL mitology StartedAt: 2025-11-18 15:35:48 -0500 (Tue, 18 Nov 2025) EndedAt: 2025-11-18 15:35:58 -0500 (Tue, 18 Nov 2025) EllapsedTime: 10.4 seconds RetCode: 0 Status: OK