Package: mitology Version: 1.3.0 Command: /Library/Frameworks/R.framework/Resources/bin/R CMD build --keep-empty-dirs --no-resave-data mitology StartedAt: 2025-11-18 17:10:18 -0500 (Tue, 18 Nov 2025) EndedAt: 2025-11-18 17:11:41 -0500 (Tue, 18 Nov 2025) EllapsedTime: 82.9 seconds RetCode: 0 Status: OK PackageFile: mitology_1.3.0.tar.gz PackageFileSize: 4.01 MiB