############################################################################## ############################################################################## ### ### Running command: ### ### /home/biocbuild/bbs-3.21-bioc/R/bin/R CMD INSTALL mitoClone2 ### ############################################################################## ############################################################################## * installing to library ‘/home/biocbuild/bbs-3.21-bioc/R/site-library’ * installing *source* package ‘mitoClone2’ ... ** this is package ‘mitoClone2’ version ‘1.13.0’ ** using staged installation ** libs using C++ compiler: ‘g++ (Ubuntu 13.3.0-6ubuntu2~24.04) 13.3.0’ g++ -std=gnu++17 -D_FILE_OFFSET_BITS=64 ../inst/SCITEpkg/*.cpp -o scite ../inst/SCITEpkg/findBestTrees.cpp:58:8: warning: built-in function ‘gamma’ declared as non-function [-Wbuiltin-declaration-mismatch] 58 | double gamma = 1; | ^~~~~ mkdir -p "/home/biocbuild/bbs-3.21-bioc/R/site-library/00LOCK-mitoClone2/00new/mitoClone2/SCITE/" cp scite "/home/biocbuild/bbs-3.21-bioc/R/site-library/00LOCK-mitoClone2/00new/mitoClone2/SCITE/" rm scite g++ -std=gnu++17 -I"/home/biocbuild/bbs-3.21-bioc/R/include" -DNDEBUG -D_FILE_OFFSET_BITS=64 -I'/home/biocbuild/bbs-3.21-bioc/R/site-library/Rhtslib/include' -I/usr/local/include -fpic -g -O2 -DR_NO_REMAP -c bam2R_10x.cpp -o bam2R_10x.o bam2R_10x.cpp:21: warning: "R_NO_REMAP" redefined 21 | #define R_NO_REMAP | : note: this is the location of the previous definition g++ -std=gnu++17 -shared -L/home/biocbuild/bbs-3.21-bioc/R/lib -L/usr/local/lib -o mitoClone2.so bam2R_10x.o /home/biocbuild/bbs-3.21-bioc/R/site-library/Rhtslib/usrlib/libhts.a -lcurl -lbz2 -llzma -lz -L/home/biocbuild/bbs-3.21-bioc/R/lib -lR installing to /home/biocbuild/bbs-3.21-bioc/R/site-library/00LOCK-mitoClone2/00new/mitoClone2/libs ** R ** data ** inst ** byte-compile and prepare package for lazy loading ** help *** installing help indices *** copying figures ** building package indices ** installing vignettes ** testing if installed package can be loaded from temporary location ** checking absolute paths in shared objects and dynamic libraries ** testing if installed package can be loaded from final location ** testing if installed package keeps a record of temporary installation path * DONE (mitoClone2)