Package: mitoClone2 Version: 1.13.0 Command: /home/biocbuild/bbs-3.21-bioc/R/bin/R CMD build --keep-empty-dirs --no-resave-data mitoClone2 StartedAt: 2025-02-05 18:10:30 -0500 (Wed, 05 Feb 2025) EndedAt: 2025-02-05 18:15:16 -0500 (Wed, 05 Feb 2025) EllapsedTime: 286.3 seconds RetCode: 0 Status: OK PackageFile: mitoClone2_1.13.0.tar.gz PackageFileSize: 1.442 MiB