Package: mitoClone2 Version: 1.13.0 Command: /Library/Frameworks/R.framework/Resources/bin/R CMD INSTALL mitoClone2 StartedAt: 2025-02-05 15:21:01 -0500 (Wed, 05 Feb 2025) EndedAt: 2025-02-05 15:22:09 -0500 (Wed, 05 Feb 2025) EllapsedTime: 67.7 seconds RetCode: 0 Status: OK