Package: mitoClone2 Version: 1.13.0 Command: /home/biocbuild/R/R/bin/R CMD check --install=check:mitoClone2.install-out.txt --library=/home/biocbuild/R/R/site-library --no-vignettes --timings mitoClone2_1.13.0.tar.gz StartedAt: 2025-01-28 12:35:26 -0000 (Tue, 28 Jan 2025) EndedAt: 2025-01-28 12:43:28 -0000 (Tue, 28 Jan 2025) EllapsedTime: 482.6 seconds RetCode: 0 Status: WARNINGS CheckDir: mitoClone2.Rcheck Warnings: 2