Package: mitoClone2 Version: 1.15.0 Command: /Library/Frameworks/R.framework/Resources/bin/R CMD check --install=check:mitoClone2.install-out.txt --library=/Library/Frameworks/R.framework/Resources/library --no-vignettes --timings mitoClone2_1.15.0.tar.gz StartedAt: 2025-04-30 20:24:02 -0400 (Wed, 30 Apr 2025) EndedAt: 2025-04-30 20:26:44 -0400 (Wed, 30 Apr 2025) EllapsedTime: 162.8 seconds RetCode: 0 Status: WARNINGS CheckDir: mitoClone2.Rcheck Warnings: 1