Package: mitch Version: 1.21.3 Command: /Library/Frameworks/R.framework/Resources/bin/R CMD check --install=check:mitch.install-out.txt --library=/Library/Frameworks/R.framework/Resources/library --no-vignettes --timings mitch_1.21.3.tar.gz StartedAt: 2025-05-02 21:54:30 -0400 (Fri, 02 May 2025) EndedAt: 2025-05-02 21:58:44 -0400 (Fri, 02 May 2025) EllapsedTime: 254.3 seconds RetCode: 0 Status: OK CheckDir: mitch.Rcheck Warnings: 0