Package: mitch Version: 1.21.3 Command: /Library/Frameworks/R.framework/Resources/bin/R CMD build --keep-empty-dirs --no-resave-data mitch StartedAt: 2025-05-02 17:30:03 -0400 (Fri, 02 May 2025) EndedAt: 2025-05-02 17:39:16 -0400 (Fri, 02 May 2025) EllapsedTime: 552.9 seconds RetCode: 0 Status: OK PackageFile: mitch_1.21.3.tar.gz PackageFileSize: 1.133 MiB