Package: mistyR Version: 1.15.0 Command: /home/biocbuild/R/R/bin/R CMD check --install=check:mistyR.install-out.txt --library=/home/biocbuild/R/R/site-library --no-vignettes --timings mistyR_1.15.0.tar.gz StartedAt: 2025-01-28 12:35:20 -0000 (Tue, 28 Jan 2025) EndedAt: 2025-01-28 12:44:44 -0000 (Tue, 28 Jan 2025) EllapsedTime: 563.8 seconds RetCode: 1 Status: ERROR CheckDir: mistyR.Rcheck Warnings: NA