Package: mistyR Version: 1.15.0 Command: /Library/Frameworks/R.framework/Resources/bin/R CMD check --install=check:mistyR.install-out.txt --library=/Library/Frameworks/R.framework/Resources/library --no-vignettes --timings mistyR_1.15.0.tar.gz StartedAt: 2025-02-03 20:46:21 -0500 (Mon, 03 Feb 2025) EndedAt: 2025-02-03 20:48:16 -0500 (Mon, 03 Feb 2025) EllapsedTime: 114.3 seconds RetCode: 1 Status: ERROR CheckDir: mistyR.Rcheck Warnings: NA