Package: mistyR Version: 1.15.0 Command: /Library/Frameworks/R.framework/Resources/bin/R CMD build --keep-empty-dirs --no-resave-data mistyR StartedAt: 2025-02-03 17:34:16 -0500 (Mon, 03 Feb 2025) EndedAt: 2025-02-03 17:35:09 -0500 (Mon, 03 Feb 2025) EllapsedTime: 53.6 seconds RetCode: 0 Status: OK PackageFile: mistyR_1.15.0.tar.gz PackageFileSize: 3.093 MiB