Package: mist Version: 0.99.18 Command: E:\biocbuild\bbs-3.21-bioc\R\bin\R.exe CMD INSTALL mist StartedAt: 2025-02-04 16:28:57 -0500 (Tue, 04 Feb 2025) EndedAt: 2025-02-04 16:29:33 -0500 (Tue, 04 Feb 2025) EllapsedTime: 35.7 seconds RetCode: 0 Status: OK