Package: mist Version: 0.99.18 Command: E:\biocbuild\bbs-3.21-bioc\R\bin\R.exe CMD check --no-multiarch --install=check:mist.install-out.txt --library=E:\biocbuild\bbs-3.21-bioc\R\library --no-vignettes --timings mist_0.99.18.tar.gz StartedAt: 2025-02-05 03:29:15 -0500 (Wed, 05 Feb 2025) EndedAt: 2025-02-05 03:29:22 -0500 (Wed, 05 Feb 2025) EllapsedTime: 7.1 seconds RetCode: 15 Status: ERROR CheckDir: mist.Rcheck Warnings: NA