Package: mist Version: 0.99.18 Command: rm -rf mist.buildbin-libdir && mkdir mist.buildbin-libdir && E:\biocbuild\bbs-3.21-bioc\R\bin\R.exe CMD INSTALL --build --library=mist.buildbin-libdir mist_0.99.18.tar.gz StartedAt: 2025-02-05 08:22:13 -0500 (Wed, 05 Feb 2025) EndedAt: 2025-02-05 08:22:53 -0500 (Wed, 05 Feb 2025) EllapsedTime: 39.7 seconds RetCode: 0 Status: OK PackageFile: mist_0.99.18.zip PackageFileSize: 356.5 KiB