Package: mist Version: 1.1.0 Command: /home/biocbuild/bbs-3.22-bioc/R/bin/R CMD INSTALL mist StartedAt: 2025-10-06 15:33:58 -0400 (Mon, 06 Oct 2025) EndedAt: 2025-10-06 15:34:28 -0400 (Mon, 06 Oct 2025) EllapsedTime: 30.7 seconds RetCode: 0 Status: OK