Package: mist Version: 0.99.18 Command: /home/biocbuild/bbs-3.21-bioc/R/bin/R CMD check --install=check:mist.install-out.txt --library=/home/biocbuild/bbs-3.21-bioc/R/site-library --timings mist_0.99.18.tar.gz StartedAt: 2025-02-06 00:18:25 -0500 (Thu, 06 Feb 2025) EndedAt: 2025-02-06 00:25:28 -0500 (Thu, 06 Feb 2025) EllapsedTime: 422.5 seconds RetCode: 0 Status: WARNINGS CheckDir: mist.Rcheck Warnings: 1