Package: mist Version: 0.99.18 Command: /Library/Frameworks/R.framework/Resources/bin/R CMD INSTALL mist StartedAt: 2025-02-05 15:31:34 -0500 (Wed, 05 Feb 2025) EndedAt: 2025-02-05 15:32:16 -0500 (Wed, 05 Feb 2025) EllapsedTime: 41.9 seconds RetCode: 0 Status: OK