Package: mist Version: 0.99.18 Command: /home/biocbuild/R/R/bin/R CMD INSTALL mist StartedAt: 2025-01-29 20:17:26 -0000 (Wed, 29 Jan 2025) EndedAt: 2025-01-29 20:18:10 -0000 (Wed, 29 Jan 2025) EllapsedTime: 43.4 seconds RetCode: 0 Status: OK