Package: mist Version: 0.99.18 Command: /home/biocbuild/R/R/bin/R CMD check --install=check:mist.install-out.txt --library=/home/biocbuild/R/R/site-library --no-vignettes --timings mist_0.99.18.tar.gz StartedAt: 2025-01-28 12:35:05 -0000 (Tue, 28 Jan 2025) EndedAt: 2025-01-28 12:42:47 -0000 (Tue, 28 Jan 2025) EllapsedTime: 462.6 seconds RetCode: 0 Status: WARNINGS CheckDir: mist.Rcheck Warnings: 1