Package: mist Version: 0.99.18 Command: /home/biocbuild/R/R/bin/R CMD build --keep-empty-dirs --no-resave-data mist StartedAt: 2025-01-29 00:23:54 -0000 (Wed, 29 Jan 2025) EndedAt: 2025-01-29 00:26:13 -0000 (Wed, 29 Jan 2025) EllapsedTime: 139.1 seconds RetCode: 0 Status: OK PackageFile: mist_0.99.18.tar.gz PackageFileSize: 402.7 KiB