Package: mist Version: 0.99.18 Command: /Library/Frameworks/R.framework/Resources/bin/R CMD INSTALL mist StartedAt: 2025-02-04 15:20:29 -0500 (Tue, 04 Feb 2025) EndedAt: 2025-02-04 15:20:41 -0500 (Tue, 04 Feb 2025) EllapsedTime: 12.5 seconds RetCode: 0 Status: OK