Package: mist Version: 0.99.18 Command: /Library/Frameworks/R.framework/Resources/bin/R CMD build --keep-empty-dirs --no-resave-data mist StartedAt: 2025-02-04 16:58:17 -0500 (Tue, 04 Feb 2025) EndedAt: 2025-02-04 16:58:57 -0500 (Tue, 04 Feb 2025) EllapsedTime: 39.4 seconds RetCode: 0 Status: OK PackageFile: mist_0.99.18.tar.gz PackageFileSize: 514.6 KiB