Package: mist Version: 0.99.18 Command: rm -rf mist.buildbin-libdir && mkdir mist.buildbin-libdir && /Users/biocbuild/BBS/utils/build-universal.sh mist_0.99.18.tar.gz /Library/Frameworks/R.framework/Resources/bin/R mist.buildbin-libdir StartedAt: 2025-02-04 22:23:21 -0500 (Tue, 04 Feb 2025) EndedAt: 2025-02-04 22:23:35 -0500 (Tue, 04 Feb 2025) EllapsedTime: 14.3 seconds RetCode: 0 Status: OK PackageFile: mist_0.99.18.tgz PackageFileSize: 554.7 KiB