Package: missRows Version: 1.27.0 Command: /Library/Frameworks/R.framework/Resources/bin/R CMD build --keep-empty-dirs --no-resave-data missRows StartedAt: 2025-02-03 17:28:03 -0500 (Mon, 03 Feb 2025) EndedAt: 2025-02-03 17:29:58 -0500 (Mon, 03 Feb 2025) EllapsedTime: 115.3 seconds RetCode: 0 Status: OK PackageFile: missRows_1.27.0.tar.gz PackageFileSize: 608.7 KiB