Package: missRows Version: 1.27.0 Command: /Library/Frameworks/R.framework/Resources/bin/R CMD INSTALL missRows StartedAt: 2025-02-03 15:41:11 -0500 (Mon, 03 Feb 2025) EndedAt: 2025-02-03 15:41:22 -0500 (Mon, 03 Feb 2025) EllapsedTime: 10.6 seconds RetCode: 0 Status: OK