Package: mirTarRnaSeq Version: 1.17.0 Command: rm -rf mirTarRnaSeq.buildbin-libdir && mkdir mirTarRnaSeq.buildbin-libdir && F:\biocbuild\bbs-3.22-bioc\R\bin\R.exe CMD INSTALL --build --library=mirTarRnaSeq.buildbin-libdir mirTarRnaSeq_1.17.0.tar.gz StartedAt: 2025-08-15 10:43:15 -0400 (Fri, 15 Aug 2025) EndedAt: 2025-08-15 10:44:52 -0400 (Fri, 15 Aug 2025) EllapsedTime: 97.0 seconds RetCode: 0 Status: OK PackageFile: mirTarRnaSeq_1.17.0.zip PackageFileSize: 4.261 MiB