Package: mirIntegrator Version: 1.39.0 Command: rm -rf mirIntegrator.buildbin-libdir && mkdir mirIntegrator.buildbin-libdir && /Users/biocbuild/BBS/utils/build-universal.sh mirIntegrator_1.39.0.tar.gz /Library/Frameworks/R.framework/Resources/bin/R mirIntegrator.buildbin-libdir StartedAt: 2025-05-20 22:14:27 -0400 (Tue, 20 May 2025) EndedAt: 2025-05-20 22:14:34 -0400 (Tue, 20 May 2025) EllapsedTime: 7.2 seconds RetCode: 0 Status: OK PackageFile: mirIntegrator_1.39.0.tgz PackageFileSize: 1.844 MiB