Package: miloR Version: 2.5.1 Command: chmod a+r miloR -R && F:\biocbuild\bbs-3.22-bioc\R\bin\R.exe CMD build --keep-empty-dirs --no-resave-data miloR StartedAt: 2025-08-14 21:29:15 -0400 (Thu, 14 Aug 2025) EndedAt: 2025-08-14 21:57:01 -0400 (Thu, 14 Aug 2025) EllapsedTime: 1666.2 seconds RetCode: 1 Status: ERROR PackageFile: None PackageFileSize: NA