Package: miloR Version: 2.5.1 Command: rm -rf miloR.buildbin-libdir && mkdir miloR.buildbin-libdir && F:\biocbuild\bbs-3.22-bioc\R\bin\R.exe CMD INSTALL --build --library=miloR.buildbin-libdir miloR_2.5.1.tar.gz StartedAt: 2025-08-14 09:20:15 -0400 (Thu, 14 Aug 2025) EndedAt: 2025-08-14 09:23:04 -0400 (Thu, 14 Aug 2025) EllapsedTime: 168.6 seconds RetCode: 0 Status: OK PackageFile: miloR_2.5.1.zip PackageFileSize: 5.971 MiB