Package: miloR Version: 2.3.0 Command: chmod a+r miloR -R && E:\biocbuild\bbs-3.21-bioc\R\bin\R.exe CMD build --keep-empty-dirs --no-resave-data miloR StartedAt: 2025-02-16 19:48:24 -0500 (Sun, 16 Feb 2025) EndedAt: 2025-02-16 20:17:30 -0500 (Sun, 16 Feb 2025) EllapsedTime: 1745.6 seconds RetCode: 0 Status: OK PackageFile: miloR_2.3.0.tar.gz PackageFileSize: 6.118 MiB