Package: miloR Version: 2.5.2 Command: /home/biocbuild/bbs-3.22-bioc/R/bin/R CMD INSTALL miloR StartedAt: 2025-09-30 15:54:24 -0400 (Tue, 30 Sep 2025) EndedAt: 2025-09-30 15:56:37 -0400 (Tue, 30 Sep 2025) EllapsedTime: 133.5 seconds RetCode: 0 Status: OK