Package: miloR Version: 2.5.2 Command: /home/biocbuild/bbs-3.22-bioc/R/bin/R CMD build --keep-empty-dirs --no-resave-data --md5 miloR StartedAt: 2025-09-30 18:39:03 -0400 (Tue, 30 Sep 2025) EndedAt: 2025-09-30 18:59:29 -0400 (Tue, 30 Sep 2025) EllapsedTime: 1226.2 seconds RetCode: 0 Status: OK PackageFile: miloR_2.5.2.tar.gz PackageFileSize: 7.221 MiB