Package: miloR Version: 2.3.0 Command: /Library/Frameworks/R.framework/Resources/bin/R CMD build --keep-empty-dirs --no-resave-data miloR StartedAt: 2025-02-16 17:17:02 -0500 (Sun, 16 Feb 2025) EndedAt: 2025-02-16 17:34:52 -0500 (Sun, 16 Feb 2025) EllapsedTime: 1070.4 seconds RetCode: 0 Status: OK PackageFile: miloR_2.3.0.tar.gz PackageFileSize: 7.493 MiB