Package: midasHLA Version: 1.15.0 Command: rm -rf midasHLA.buildbin-libdir && mkdir midasHLA.buildbin-libdir && E:\biocbuild\bbs-3.21-bioc\R\bin\R.exe CMD INSTALL --build --library=midasHLA.buildbin-libdir midasHLA_1.15.0.tar.gz StartedAt: 2025-02-04 08:22:11 -0500 (Tue, 04 Feb 2025) EndedAt: 2025-02-04 08:23:49 -0500 (Tue, 04 Feb 2025) EllapsedTime: 97.6 seconds RetCode: 0 Status: OK PackageFile: midasHLA_1.15.0.zip PackageFileSize: 2.8 MiB